BEGIN:VCALENDAR
VERSION:2.0
PRODID:-//eventon.com NONSGML v1.0//EN
CALSCALE:GREGORIAN
METHOD:PUBLISH
BEGIN:VEVENT
UID:69e8b1f95a6de
DTSTAMP:20260422T113313Z
DTSTART:20251119
DTEND:20251120
LOCATION:
SUMMARY:Sprawdzanie czystości/ Checking cleanliness DELTA
DESCRIPTION:Sprawdzanie czystości/ Checking cleanliness DELTA\nhttps://aka
 demiki.bialystok.pl/events/sprawdzanie-czystosci-checking-cleanliness-delta
 /
URL:https://akademiki.bialystok.pl/events/sprawdzanie-czystosci-checking-cleanliness-delta/
END:VEVENT
END:VCALENDAR