BEGIN:VCALENDAR
VERSION:2.0
PRODID:-//eventon.com NONSGML v1.0//EN
CALSCALE:GREGORIAN
METHOD:PUBLISH
BEGIN:VEVENT
UID:69e7826764562
DTSTAMP:20260421T135759Z
DTSTART:20260525
DTEND:20260526
LOCATION:
SUMMARY:Opłata za akademik/  Dormitory fee (Copy)
DESCRIPTION:Opłata za akademik/ Dormitory fee (Copy)\nhttps://akademiki.bi
 alystok.pl/events/oplata-za-akademik-dormitory-fee-copy-3/
URL:https://akademiki.bialystok.pl/events/oplata-za-akademik-dormitory-fee-copy-3/
END:VEVENT
END:VCALENDAR