BEGIN:VCALENDAR
VERSION:2.0
PRODID:-//eventon.com NONSGML v1.0//EN
CALSCALE:GREGORIAN
METHOD:PUBLISH
BEGIN:VEVENT
UID:69e758a3a8d93
DTSTAMP:20260421T105947Z
DTSTART:20260425
DTEND:20260426
LOCATION:
SUMMARY:Opłata za akademik/  Dormitory fee
DESCRIPTION:Opłata za akademik/ Dormitory fee\nhttps://akademiki.bialystok
 .pl/events/oplata-za-akademik-dormitory-fee-copy-copy/
URL:https://akademiki.bialystok.pl/events/oplata-za-akademik-dormitory-fee-copy-copy/
END:VEVENT
END:VCALENDAR