BEGIN:VCALENDAR
VERSION:2.0
PRODID:-//eventon.com NONSGML v1.0//EN
CALSCALE:GREGORIAN
METHOD:PUBLISH
BEGIN:VEVENT
UID:69e758a2dbc1e
DTSTAMP:20260421T105946Z
DTSTART:20260406T000000Z
DTEND:20260406T000000Z
LOCATION:
SUMMARY:Drugi Dzień Świąt Wielkanocnych / Second Day of Easter
DESCRIPTION:Dzień wolny od pracy/&nbsp; Day off from work\nhttps://akademi
 ki.bialystok.pl/events/drugi-dzien-swiat-wielkanocnych-second-day-of-easter
 /
URL:https://akademiki.bialystok.pl/events/drugi-dzien-swiat-wielkanocnych-second-day-of-easter/
END:VEVENT
END:VCALENDAR